BEGIN:VCALENDAR
VERSION:2.0
PRODID:-//eventon.com NONSGML v1.0//EN
CALSCALE:GREGORIAN
METHOD:PUBLISH
BEGIN:VEVENT
UID:69e9f723e1d61
DTSTAMP:20260423T104035Z
DTSTART:20260415T073900Z
DTEND:20260415T073900Z
LOCATION:Paris
SUMMARY:Energie - Data Center
DESCRIPTION:Energie &#8211; Data Center\nhttps://www.cellaconsilium.fr/even
 ts/energie-data-center-56/
URL:https://www.cellaconsilium.fr/events/energie-data-center-56/
END:VEVENT
END:VCALENDAR