BEGIN:VCALENDAR
VERSION:2.0
PRODID:-//eventon.com NONSGML v1.0//EN
CALSCALE:GREGORIAN
METHOD:PUBLISH
BEGIN:VEVENT
UID:69e9f6b726d3a
DTSTAMP:20260423T103847Z
DTSTART:20260616T094500Z
DTEND:20260618T094500Z
LOCATION:
SUMMARY:La Préparation du Transfert
DESCRIPTION:La Préparation du Transfert\nhttps://www.cellaconsilium.fr/eve
 nts/la-preparation-du-transfert-23/
URL:https://www.cellaconsilium.fr/events/la-preparation-du-transfert-23/
END:VEVENT
END:VCALENDAR