BEGIN:VCALENDAR
VERSION:2.0
PRODID:-//eventon.com NONSGML v1.0//EN
CALSCALE:GREGORIAN
METHOD:PUBLISH
BEGIN:VEVENT
UID:69ea20bf2496b
DTSTAMP:20260423T133807Z
DTSTART:20261125T090000Z
DTEND:20261126T173000Z
LOCATION:Paris
SUMMARY:Sécurité des Actifs et des Personnes en salle informatique
DESCRIPTION:Sécurité des Actifs et des Personnes en salle informatique\nh
 ttps://www.cellaconsilium.fr/events/securite-des-actifs-et-des-personnes-en
 -salle-informatique-56/
URL:https://www.cellaconsilium.fr/events/securite-des-actifs-et-des-personnes-en-salle-informatique-56/
END:VEVENT
END:VCALENDAR