BEGIN:VCALENDAR
VERSION:2.0
PRODID:-//eventon.com NONSGML v1.0//EN
CALSCALE:GREGORIAN
METHOD:PUBLISH
BEGIN:VEVENT
UID:69ea33ce4e7cd
DTSTAMP:20260423T145926Z
DTSTART:20261123T090000Z
DTEND:20261123T173000Z
LOCATION:Paris
SUMMARY:Maîtrise de la qualité de l’air en salle informatique
DESCRIPTION:Maîtrise de la qualité de l’air en salle informatique\nhttp
 s://www.cellaconsilium.fr/events/maitrise-de-la-qualite-de-lair-en-salle-in
 formatique-53/
URL:https://www.cellaconsilium.fr/events/maitrise-de-la-qualite-de-lair-en-salle-informatique-53/
END:VEVENT
END:VCALENDAR