BEGIN:VCALENDAR
VERSION:2.0
PRODID:-//eventon.com NONSGML v1.0//EN
CALSCALE:GREGORIAN
METHOD:PUBLISH
BEGIN:VEVENT
UID:69ea49e58cfc6
DTSTAMP:20260423T163341Z
DTSTART:20261120T090000Z
DTEND:20261120T173000Z
LOCATION:Paris
SUMMARY:Refroidissement en Salle Technique – Data center
DESCRIPTION:Refroidissement en Salle Technique – Data center\nhttps://www
 .cellaconsilium.fr/events/refroidissement-en-salle-technique-data-center-53
 /
URL:https://www.cellaconsilium.fr/events/refroidissement-en-salle-technique-data-center-53/
END:VEVENT
END:VCALENDAR