BEGIN:VCALENDAR
VERSION:2.0
PRODID:-//eventon.com NONSGML v1.0//EN
CALSCALE:GREGORIAN
METHOD:PUBLISH
BEGIN:VEVENT
UID:69eaa1f5b74f8
DTSTAMP:20260423T224925Z
DTSTART:20261026T090000Z
DTEND:20261026T173000Z
LOCATION:
SUMMARY:Capitaliser les apports de la Relocalisation
DESCRIPTION:Capitaliser les apports de la Relocalisation\nhttps://www.cella
 consilium.fr/events/capitaliser-les-apports-de-la-relocalisation-20/
URL:https://www.cellaconsilium.fr/events/capitaliser-les-apports-de-la-relocalisation-20/
END:VEVENT
END:VCALENDAR