BEGIN:VCALENDAR
VERSION:2.0
PRODID:-//eventon.com NONSGML v1.0//EN
CALSCALE:GREGORIAN
METHOD:PUBLISH
BEGIN:VEVENT
UID:69ea8fb6d33f8
DTSTAMP:20260423T213134Z
DTSTART:20261019T090000Z
DTEND:20261021T173000Z
LOCATION:
SUMMARY:Les Référentiels majeurs de la Relocalisation
DESCRIPTION:Les Référentiels majeurs de la Relocalisation\nhttps://www.ce
 llaconsilium.fr/events/les-referentiels-majeurs-de-la-relocalisation-22/
URL:https://www.cellaconsilium.fr/events/les-referentiels-majeurs-de-la-relocalisation-22/
END:VEVENT
END:VCALENDAR