BEGIN:VCALENDAR
VERSION:2.0
PRODID:-//eventon.com NONSGML v1.0//EN
CALSCALE:GREGORIAN
METHOD:PUBLISH
BEGIN:VEVENT
UID:69ea76693b5a6
DTSTAMP:20260423T194337Z
DTSTART:20261013T094500Z
DTEND:20261015T094500Z
LOCATION:
SUMMARY:La Préparation du Transfert
DESCRIPTION:La Préparation du Transfert\nhttps://www.cellaconsilium.fr/eve
 nts/la-preparation-du-transfert-22/
URL:https://www.cellaconsilium.fr/events/la-preparation-du-transfert-22/
END:VEVENT
END:VCALENDAR