BEGIN:VCALENDAR
VERSION:2.0
PRODID:-//eventon.com NONSGML v1.0//EN
CALSCALE:GREGORIAN
METHOD:PUBLISH
BEGIN:VEVENT
UID:69ea620a1736c
DTSTAMP:20260423T181642Z
DTSTART:20261012T090000Z
DTEND:20261012T173000Z
LOCATION:
SUMMARY:Le Cahier des charges de la Relocalisation
DESCRIPTION:Le Cahier des charges de la Relocalisation\nhttps://www.cellaco
 nsilium.fr/events/le-cahier-des-charges-de-la-relocalisation-23/
URL:https://www.cellaconsilium.fr/events/le-cahier-des-charges-de-la-relocalisation-23/
END:VEVENT
END:VCALENDAR