BEGIN:VCALENDAR
VERSION:2.0
PRODID:-//eventon.com NONSGML v1.0//EN
CALSCALE:GREGORIAN
METHOD:PUBLISH
BEGIN:VEVENT
UID:69ea4ef0ce9bb
DTSTAMP:20260423T165512Z
DTSTART:20261005T090000Z
DTEND:20261006T173000Z
LOCATION:
SUMMARY:Data Center - Sélection et Contractualisation
DESCRIPTION:Data Center &#8211; Sélection et Contractualisation\nhttps://w
 ww.cellaconsilium.fr/events/data-center-selection-et-contractualisation-22/
URL:https://www.cellaconsilium.fr/events/data-center-selection-et-contractualisation-22/
END:VEVENT
END:VCALENDAR