BEGIN:VCALENDAR
VERSION:2.0
PRODID:-//eventon.com NONSGML v1.0//EN
CALSCALE:GREGORIAN
METHOD:PUBLISH
BEGIN:VEVENT
UID:69e9f6b2e38df
DTSTAMP:20260423T103842Z
DTSTART:20260414T155800Z
DTEND:20260414T155800Z
LOCATION:Paris
SUMMARY:Energie - Data Center
DESCRIPTION:Energie &#8211; Data Center\nhttps://www.cellaconsilium.fr/even
 ts/energie-data-center-54/
URL:https://www.cellaconsilium.fr/events/energie-data-center-54/
END:VEVENT
END:VCALENDAR