BEGIN:VCALENDAR
VERSION:2.0
PRODID:-//eventon.com NONSGML v1.0//EN
CALSCALE:GREGORIAN
METHOD:PUBLISH
BEGIN:VEVENT
UID:69ea0bc4cd7fb
DTSTAMP:20260423T120836Z
DTSTART:20260907T090000Z
DTEND:20260909T173000Z
LOCATION:Paris
SUMMARY:Conception de Salle Technique - Data Center
DESCRIPTION:Conception de Salle Technique &#8211; Data Center\nhttps://www.
 cellaconsilium.fr/events/conception-de-salle-technique-data-center-60/
URL:https://www.cellaconsilium.fr/events/conception-de-salle-technique-data-center-60/
END:VEVENT
END:VCALENDAR