BEGIN:VCALENDAR
VERSION:2.0
PRODID:-//eventon.com NONSGML v1.0//EN
CALSCALE:GREGORIAN
METHOD:PUBLISH
BEGIN:VEVENT
UID:69e9f7b83d64f
DTSTAMP:20260423T104304Z
DTSTART:20260706T090000Z
DTEND:20260708T173000Z
LOCATION:Paris
SUMMARY:Conception de Salle Technique - Data Center
DESCRIPTION:Conception de Salle Technique &#8211; Data Center\nhttps://www.
 cellaconsilium.fr/events/conception-de-salle-technique-data-center-59/
URL:https://www.cellaconsilium.fr/events/conception-de-salle-technique-data-center-59/
END:VEVENT
END:VCALENDAR