BEGIN:VCALENDAR
VERSION:2.0
PRODID:-//eventon.com NONSGML v1.0//EN
CALSCALE:GREGORIAN
METHOD:PUBLISH
BEGIN:VEVENT
UID:69e9f565d0dcf
DTSTAMP:20260423T103309Z
DTSTART:20260622T090000Z
DTEND:20260622T173000Z
LOCATION:
SUMMARY:Capitaliser les apports de la Relocalisation
DESCRIPTION:Capitaliser les apports de la Relocalisation\nhttps://www.cella
 consilium.fr/events/capitaliser-les-apports-de-la-relocalisation-19/
URL:https://www.cellaconsilium.fr/events/capitaliser-les-apports-de-la-relocalisation-19/
END:VEVENT
END:VCALENDAR