BEGIN:VCALENDAR
VERSION:2.0
PRODID:-//eventon.com NONSGML v1.0//EN
CALSCALE:GREGORIAN
METHOD:PUBLISH
BEGIN:VEVENT
UID:69ea0c71479bb
DTSTAMP:20260423T121129Z
DTSTART:20251118T094500Z
DTEND:20251118T094500Z
LOCATION:
SUMMARY:La Préparation du Transfert
DESCRIPTION:La Préparation du Transfert\nhttps://www.cellaconsilium.fr/eve
 nts/la-preparation-du-transfert-21/
URL:https://www.cellaconsilium.fr/events/la-preparation-du-transfert-21/
END:VEVENT
END:VCALENDAR