BEGIN:VCALENDAR
VERSION:2.0
PRODID:-//eventon.com NONSGML v1.0//EN
CALSCALE:GREGORIAN
METHOD:PUBLISH
BEGIN:VEVENT
UID:69e9f7b80d2c8
DTSTAMP:20260423T104304Z
DTSTART:20260615T090000Z
DTEND:20260615T173000Z
LOCATION:
SUMMARY:Le Cahier des charges de la Relocalisation
DESCRIPTION:Le Cahier des charges de la Relocalisation\nhttps://www.cellaco
 nsilium.fr/events/le-cahier-des-charges-de-la-relocalisation-22/
URL:https://www.cellaconsilium.fr/events/le-cahier-des-charges-de-la-relocalisation-22/
END:VEVENT
END:VCALENDAR