BEGIN:VCALENDAR
VERSION:2.0
PRODID:-//eventon.com NONSGML v1.0//EN
CALSCALE:GREGORIAN
METHOD:PUBLISH
BEGIN:VEVENT
UID:69e9f723b5779
DTSTAMP:20260423T104035Z
DTSTART:20260526T090000Z
DTEND:20260527T173000Z
LOCATION:Paris
SUMMARY:Sécurité des Actifs et des Personnes en salle informatique
DESCRIPTION:Sécurité des Actifs et des Personnes en salle informatique\nh
 ttps://www.cellaconsilium.fr/events/securite-des-actifs-et-des-personnes-en
 -salle-informatique-53/
URL:https://www.cellaconsilium.fr/events/securite-des-actifs-et-des-personnes-en-salle-informatique-53/
END:VEVENT
END:VCALENDAR