BEGIN:VCALENDAR
VERSION:2.0
PRODID:-//eventon.com NONSGML v1.0//EN
CALSCALE:GREGORIAN
METHOD:PUBLISH
BEGIN:VEVENT
UID:69e9f79266d81
DTSTAMP:20260423T104226Z
DTSTART:20260427T090000Z
DTEND:20260427T173000Z
LOCATION:
SUMMARY:Capitaliser les apports de la Relocalisation
DESCRIPTION:Capitaliser les apports de la Relocalisation\nhttps://www.cella
 consilium.fr/events/capitaliser-les-apports-de-la-relocalisation-18/
URL:https://www.cellaconsilium.fr/events/capitaliser-les-apports-de-la-relocalisation-18/
END:VEVENT
END:VCALENDAR