BEGIN:VCALENDAR
VERSION:2.0
PRODID:-//eventon.com NONSGML v1.0//EN
CALSCALE:GREGORIAN
METHOD:PUBLISH
BEGIN:VEVENT
UID:69e9f7049e735
DTSTAMP:20260423T104004Z
DTSTART:20260413T090000Z
DTEND:20260415T173000Z
LOCATION:
SUMMARY:Les Référentiels majeurs de la Relocalisation
DESCRIPTION:Les Référentiels majeurs de la Relocalisation\nhttps://www.ce
 llaconsilium.fr/events/les-referentiels-majeurs-de-la-relocalisation-20/
URL:https://www.cellaconsilium.fr/events/les-referentiels-majeurs-de-la-relocalisation-20/
END:VEVENT
END:VCALENDAR