BEGIN:VCALENDAR
VERSION:2.0
PRODID:-//eventon.com NONSGML v1.0//EN
CALSCALE:GREGORIAN
METHOD:PUBLISH
BEGIN:VEVENT
UID:69ea2c0de9efb
DTSTAMP:20260423T142621Z
DTSTART:20260319T090000Z
DTEND:20260319T173000Z
LOCATION:Paris
SUMMARY:Maîtrise de la qualité de l’air en salle informatique
DESCRIPTION:Maîtrise de la qualité de l’air en salle informatique\nhttp
 s://www.cellaconsilium.fr/events/maitrise-de-la-qualite-de-lair-en-salle-in
 formatique-49/
URL:https://www.cellaconsilium.fr/events/maitrise-de-la-qualite-de-lair-en-salle-informatique-49/
END:VEVENT
END:VCALENDAR