BEGIN:VCALENDAR
VERSION:2.0
PRODID:-//eventon.com NONSGML v1.0//EN
CALSCALE:GREGORIAN
METHOD:PUBLISH
BEGIN:VEVENT
UID:69ea6cdb2f166
DTSTAMP:20260423T190251Z
DTSTART:20260309T090000Z
DTEND:20260311T173000Z
LOCATION:Paris
SUMMARY:Conception de Salle Technique - Data Center
DESCRIPTION:Conception de Salle Technique &#8211; Data Center\nhttps://www.
 cellaconsilium.fr/events/conception-de-salle-technique-data-center-57/
URL:https://www.cellaconsilium.fr/events/conception-de-salle-technique-data-center-57/
END:VEVENT
END:VCALENDAR