BEGIN:VCALENDAR
VERSION:2.0
PRODID:-//eventon.com NONSGML v1.0//EN
CALSCALE:GREGORIAN
METHOD:PUBLISH
BEGIN:VEVENT
UID:69eab97640972
DTSTAMP:20260424T002942Z
DTSTART:20260217T090000Z
DTEND:20260219T173000Z
LOCATION:
SUMMARY:La Préparation du Transfert
DESCRIPTION:La Préparation du Transfert\nhttps://www.cellaconsilium.fr/eve
 nts/la-preparation-du-transfert-19/
URL:https://www.cellaconsilium.fr/events/la-preparation-du-transfert-19/
END:VEVENT
END:VCALENDAR