BEGIN:VCALENDAR
VERSION:2.0
PRODID:-//eventon.com NONSGML v1.0//EN
CALSCALE:GREGORIAN
METHOD:PUBLISH
BEGIN:VEVENT
UID:69eacdee86b8d
DTSTAMP:20260424T015702Z
DTSTART:20260216T090000Z
DTEND:20260216T173000Z
LOCATION:
SUMMARY:Le Cahier des charges de la Relocalisation
DESCRIPTION:Le Cahier des charges de la Relocalisation\nhttps://www.cellaco
 nsilium.fr/events/le-cahier-des-charges-de-la-relocalisation-20/
URL:https://www.cellaconsilium.fr/events/le-cahier-des-charges-de-la-relocalisation-20/
END:VEVENT
END:VCALENDAR