BEGIN:VCALENDAR
VERSION:2.0
PRODID:-//eventon.com NONSGML v1.0//EN
CALSCALE:GREGORIAN
METHOD:PUBLISH
BEGIN:VEVENT
UID:69eb0a4b7e499
DTSTAMP:20260424T061435Z
DTSTART:20260126T090000Z
DTEND:20260127T173000Z
LOCATION:Paris
SUMMARY:Sécurité des Actifs et des Personnes en salle informatique
DESCRIPTION:Sécurité des Actifs et des Personnes en salle informatique\nh
 ttps://www.cellaconsilium.fr/events/securite-des-actifs-et-des-personnes-en
 -salle-informatique-51/
URL:https://www.cellaconsilium.fr/events/securite-des-actifs-et-des-personnes-en-salle-informatique-51/
END:VEVENT
END:VCALENDAR