BEGIN:VCALENDAR
VERSION:2.0
PRODID:-//eventon.com NONSGML v1.0//EN
CALSCALE:GREGORIAN
METHOD:PUBLISH
BEGIN:VEVENT
UID:69eb47007d5b5
DTSTAMP:20260424T103336Z
DTSTART:20260119T090000Z
DTEND:20260120T173000Z
LOCATION:Paris
SUMMARY:Energie - Data Center
DESCRIPTION:Energie &#8211; Data Center\nhttps://www.cellaconsilium.fr/even
 ts/energie-data-center-50/
URL:https://www.cellaconsilium.fr/events/energie-data-center-50/
END:VEVENT
END:VCALENDAR