BEGIN:VCALENDAR
VERSION:2.0
PRODID:-//eventon.com NONSGML v1.0//EN
CALSCALE:GREGORIAN
METHOD:PUBLISH
BEGIN:VEVENT
UID:69eb852533a57
DTSTAMP:20260424T145845Z
DTSTART:20251209T090000Z
DTEND:20251209T173000Z
LOCATION:
SUMMARY:Capitaliser les apports de la Relocalisation
DESCRIPTION:Capitaliser les apports de la Relocalisation\nhttps://www.cella
 consilium.fr/events/capitaliser-les-apports-de-la-relocalisation-16/
URL:https://www.cellaconsilium.fr/events/capitaliser-les-apports-de-la-relocalisation-16/
END:VEVENT
END:VCALENDAR