BEGIN:VCALENDAR
VERSION:2.0
PRODID:-//eventon.com NONSGML v1.0//EN
CALSCALE:GREGORIAN
METHOD:PUBLISH
BEGIN:VEVENT
UID:69ebaf64b2962
DTSTAMP:20260424T175900Z
DTSTART:20251201T090000Z
DTEND:20251203T173000Z
LOCATION:
SUMMARY:Les Référentiels majeurs de la Relocalisation
DESCRIPTION:Les Référentiels majeurs de la Relocalisation\nhttps://www.ce
 llaconsilium.fr/events/les-referentiels-majeurs-de-la-relocalisation-18/
URL:https://www.cellaconsilium.fr/events/les-referentiels-majeurs-de-la-relocalisation-18/
END:VEVENT
END:VCALENDAR