BEGIN:VCALENDAR
VERSION:2.0
PRODID:-//eventon.com NONSGML v1.0//EN
CALSCALE:GREGORIAN
METHOD:PUBLISH
BEGIN:VEVENT
UID:69ebd52abe6bd
DTSTAMP:20260424T204010Z
DTSTART:20251113T090000Z
DTEND:20251114T173000Z
LOCATION:
SUMMARY:Data Center - Sélection et Contractualisation
DESCRIPTION:Data Center &#8211; Sélection et Contractualisation\nhttps://w
 ww.cellaconsilium.fr/events/data-center-selection-et-contractualisation-18/
URL:https://www.cellaconsilium.fr/events/data-center-selection-et-contractualisation-18/
END:VEVENT
END:VCALENDAR