BEGIN:VCALENDAR
VERSION:2.0
PRODID:-//eventon.com NONSGML v1.0//EN
CALSCALE:GREGORIAN
METHOD:PUBLISH
BEGIN:VEVENT
UID:69ec109abd145
DTSTAMP:20260425T005346Z
DTSTART:20251021T090000Z
DTEND:20251021T173000Z
LOCATION:Paris
SUMMARY:Maîtrise de la qualité de l’air en salle informatique
DESCRIPTION:Maîtrise de la qualité de l’air en salle informatique\nhttp
 s://www.cellaconsilium.fr/events/maitrise-de-la-qualite-de-lair-en-salle-in
 formatique-47/
URL:https://www.cellaconsilium.fr/events/maitrise-de-la-qualite-de-lair-en-salle-informatique-47/
END:VEVENT
END:VCALENDAR