BEGIN:VCALENDAR
VERSION:2.0
PRODID:-//eventon.com NONSGML v1.0//EN
CALSCALE:GREGORIAN
METHOD:PUBLISH
BEGIN:VEVENT
UID:69ec95f0e88b9
DTSTAMP:20260425T102240Z
DTSTART:20250915T090000Z
DTEND:20250917T173000Z
LOCATION:
SUMMARY:Les Référentiels majeurs de la Relocalisation
DESCRIPTION:Les Référentiels majeurs de la Relocalisation\nhttps://www.ce
 llaconsilium.fr/events/les-referentiels-majeurs-de-la-relocalisation-17/
URL:https://www.cellaconsilium.fr/events/les-referentiels-majeurs-de-la-relocalisation-17/
END:VEVENT
END:VCALENDAR