BEGIN:VCALENDAR
VERSION:2.0
PRODID:-//eventon.com NONSGML v1.0//EN
CALSCALE:GREGORIAN
METHOD:PUBLISH
BEGIN:VEVENT
UID:69ed335db934c
DTSTAMP:20260425T213421Z
DTSTART:20250728T090000Z
DTEND:20250728T173000Z
LOCATION:Paris
SUMMARY:Refroidissement en Salle Technique – Data center
DESCRIPTION:Refroidissement en Salle Technique – Data center\nhttps://www
 .cellaconsilium.fr/events/refroidissement-en-salle-technique-data-center-46
 /
URL:https://www.cellaconsilium.fr/events/refroidissement-en-salle-technique-data-center-46/
END:VEVENT
END:VCALENDAR