BEGIN:VCALENDAR
VERSION:2.0
PRODID:-//eventon.com NONSGML v1.0//EN
CALSCALE:GREGORIAN
METHOD:PUBLISH
BEGIN:VEVENT
UID:69e787a886f47
DTSTAMP:20260421T142024Z
DTSTART:20190826T090000Z
DTEND:20190826T173000Z
LOCATION:Paris
SUMMARY:Maîtrise de la qualité de l’air en salle informatique
DESCRIPTION:Maîtrise de la qualité de l’air en salle informatique\nhttp
 s://www.cellaconsilium.fr/events/maitrise-de-la-qualite-de-lair-en-salle-in
 formatique-6/
URL:https://www.cellaconsilium.fr/events/maitrise-de-la-qualite-de-lair-en-salle-informatique-6/
END:VEVENT
END:VCALENDAR