BEGIN:VCALENDAR
VERSION:2.0
PRODID:-//eventon.com NONSGML v1.0//EN
CALSCALE:GREGORIAN
METHOD:PUBLISH
BEGIN:VEVENT
UID:69ed8780be3f1
DTSTAMP:20260426T033320Z
DTSTART:20191018T090000Z
DTEND:20191018T173000Z
LOCATION:Paris
SUMMARY:Sécurité des Actifs et des Personnes en salle informatique
DESCRIPTION:Sécurité des Actifs et des Personnes en salle informatique\nh
 ttps://www.cellaconsilium.fr/events/securite-des-actifs-et-des-personnes-en
 -salle-informatique-8/
URL:https://www.cellaconsilium.fr/events/securite-des-actifs-et-des-personnes-en-salle-informatique-8/
END:VEVENT
END:VCALENDAR